BEGIN:VCALENDAR
VERSION:2.0
PRODID:-//wp-events-plugin.com//7.2.3.1//EN
TZID:America/Los_Angeles
X-WR-TIMEZONE:America/Los_Angeles
BEGIN:VEVENT
UID:39@whitneymusic.org
DTSTART;TZID=America/Los_Angeles:20260521T183000
DTEND;TZID=America/Los_Angeles:20260521T203000
DTSTAMP:20260309T040503Z
URL:https://whitneymusic.org/calendar/spring-concert-bands/
SUMMARY:Spring Concert - Bands
DESCRIPTION:Join us for our Spring music concert in the Whitney High School
  theater. Student call time is 6:30pm and concert start time is 7:00pm.\n\
 n&nbsp\;\n\n&nbsp\;\n\n&nbsp\;\n\n&nbsp\;
ATTACH;FMTTYPE=image/jpeg:https://whitneymusic.org/wp-content/uploads/2024
 /04/Wind-Ensemble-Marching-Band-February-2024-Concert-01.jpg
CATEGORIES:On Campus,Theater
LOCATION:Whitney High School\, 701 Wildcat Blvd\, Rocklin\, CA\, 95765\, Un
 ited States
X-APPLE-STRUCTURED-LOCATION;VALUE=URI;X-ADDRESS=701 Wildcat Blvd\, Rocklin\
 , CA\, 95765\, United States;X-APPLE-RADIUS=100;X-TITLE=Whitney High Schoo
 l:geo:0,0
END:VEVENT
BEGIN:VTIMEZONE
TZID:America/Los_Angeles
X-LIC-LOCATION:America/Los_Angeles
BEGIN:DAYLIGHT
DTSTART:20260308T030000
TZOFFSETFROM:-0800
TZOFFSETTO:-0700
TZNAME:PDT
END:DAYLIGHT
END:VTIMEZONE
END:VCALENDAR